BEGIN:VCALENDAR
VERSION:2.0
PRODID:icalendar-ruby
CALSCALE:GREGORIAN
METHOD:PUBLISH
BEGIN:VEVENT
DTSTAMP:20260422T152805Z
UID:10-303762@muygrandeministries.com
DTSTART:20261102T000000Z
DTEND:20261102T023000Z
CLASS:PUBLIC
CREATED:20260422T095406
DESCRIPTION:
LAST-MODIFIED:20260422T095406
LOCATION:Muy Grande Ministries
SUMMARY:Bible Study
URL;VALUE=URI:https://www.muygrandeministries.com/events/bible-study--9/202
 6-11-01
END:VEVENT
END:VCALENDAR
