BEGIN:VCALENDAR
VERSION:2.0
PRODID:icalendar-ruby
CALSCALE:GREGORIAN
METHOD:PUBLISH
BEGIN:VEVENT
DTSTAMP:20260422T121154Z
UID:10-303685@muygrandeministries.com
DTSTART:20261018T230000Z
DTEND:20261019T013000Z
CLASS:PUBLIC
CREATED:20260422T065910
DESCRIPTION:
LAST-MODIFIED:20260422T065910
LOCATION:Muy Grande Ministries
SUMMARY:Bible Study
URL;VALUE=URI:https://www.muygrandeministries.com/events/bible-study--9/202
 6-10-18
END:VEVENT
END:VCALENDAR
