BEGIN:VCALENDAR
VERSION:2.0
PRODID:icalendar-ruby
CALSCALE:GREGORIAN
METHOD:PUBLISH
BEGIN:VEVENT
DTSTAMP:20260424T090054Z
UID:10-304509@muygrandeministries.com
DTSTART:20261011T230000Z
DTEND:20261012T013000Z
CLASS:PUBLIC
CREATED:20260423T213217
DESCRIPTION:
LAST-MODIFIED:20260423T213217
LOCATION:Muy Grande Ministries
SUMMARY:Bible Study
URL;VALUE=URI:https://www.muygrandeministries.com/events/bible-study--9/202
 6-10-11
END:VEVENT
END:VCALENDAR
