BEGIN:VCALENDAR
VERSION:2.0
PRODID:icalendar-ruby
CALSCALE:GREGORIAN
METHOD:PUBLISH
BEGIN:VEVENT
DTSTAMP:20260420T072836Z
UID:10-302707@muygrandeministries.com
DTSTART:20260927T230000Z
DTEND:20260928T013000Z
CLASS:PUBLIC
CREATED:20260420T015453
DESCRIPTION:
LAST-MODIFIED:20260420T015453
LOCATION:Muy Grande Ministries
SUMMARY:Bible Study
URL;VALUE=URI:https://www.muygrandeministries.com/events/bible-study--9/202
 6-09-27
END:VEVENT
END:VCALENDAR
