BEGIN:VCALENDAR
VERSION:2.0
PRODID:icalendar-ruby
CALSCALE:GREGORIAN
METHOD:PUBLISH
BEGIN:VEVENT
DTSTAMP:20260420T055735Z
UID:10-302631@muygrandeministries.com
DTSTART:20260920T230000Z
DTEND:20260921T013000Z
CLASS:PUBLIC
CREATED:20260419T221756
DESCRIPTION:
LAST-MODIFIED:20260419T221756
LOCATION:Muy Grande Ministries
SUMMARY:Bible Study
URL;VALUE=URI:https://www.muygrandeministries.com/events/bible-study--9/202
 6-09-20
END:VEVENT
END:VCALENDAR
