BEGIN:VCALENDAR
VERSION:2.0
PRODID:icalendar-ruby
CALSCALE:GREGORIAN
METHOD:PUBLISH
BEGIN:VEVENT
DTSTAMP:20260420T022125Z
UID:10-302555@muygrandeministries.com
DTSTART:20260906T230000Z
DTEND:20260907T013000Z
CLASS:PUBLIC
CREATED:20260419T183944
DESCRIPTION:
LAST-MODIFIED:20260419T183944
LOCATION:Muy Grande Ministries
SUMMARY:Bible Study
URL;VALUE=URI:https://www.muygrandeministries.com/events/bible-study--9/202
 6-09-06
END:VEVENT
END:VCALENDAR
