BEGIN:VCALENDAR
VERSION:2.0
PRODID:icalendar-ruby
CALSCALE:GREGORIAN
METHOD:PUBLISH
BEGIN:VEVENT
DTSTAMP:20260419T164226Z
UID:10-302401@muygrandeministries.com
DTSTART:20260726T230000Z
DTEND:20260727T013000Z
CLASS:PUBLIC
CREATED:20260419T111450
DESCRIPTION:
LAST-MODIFIED:20260419T111450
LOCATION:Muy Grande Ministries
SUMMARY:Bible Study
URL;VALUE=URI:https://www.muygrandeministries.com/events/bible-study--9/202
 6-07-26
END:VEVENT
END:VCALENDAR
