BEGIN:VCALENDAR
VERSION:2.0
PRODID:icalendar-ruby
CALSCALE:GREGORIAN
METHOD:PUBLISH
BEGIN:VEVENT
DTSTAMP:20260419T144518Z
UID:10-302326@muygrandeministries.com
DTSTART:20260719T230000Z
DTEND:20260720T013000Z
CLASS:PUBLIC
CREATED:20260419T073248
DESCRIPTION:
LAST-MODIFIED:20260419T073248
LOCATION:Muy Grande Ministries
SUMMARY:Bible Study
URL;VALUE=URI:https://www.muygrandeministries.com/events/bible-study--9/202
 6-07-19
END:VEVENT
END:VCALENDAR
