BEGIN:VCALENDAR
VERSION:2.0
PRODID:icalendar-ruby
CALSCALE:GREGORIAN
METHOD:PUBLISH
BEGIN:VEVENT
DTSTAMP:20260426T010905Z
UID:11-305380@muygrandeministries.com
DTSTART:20260924T230000Z
DTEND:20260925T013000Z
CLASS:PUBLIC
CREATED:20260425T173534
DESCRIPTION:
LAST-MODIFIED:20260425T173534
LOCATION:Muy Grande Ministries
SUMMARY:Bible Study
URL;VALUE=URI:https://www.muygrandeministries.com/events/bible-study--11/20
 26-09-24
END:VEVENT
END:VCALENDAR
