BEGIN:VCALENDAR
VERSION:2.0
PRODID:icalendar-ruby
CALSCALE:GREGORIAN
METHOD:PUBLISH
BEGIN:VEVENT
DTSTAMP:20260425T203154Z
UID:11-305301@muygrandeministries.com
DTSTART:20260903T230000Z
DTEND:20260904T013000Z
CLASS:PUBLIC
CREATED:20260425T145303
DESCRIPTION:
LAST-MODIFIED:20260425T145303
LOCATION:Muy Grande Ministries
SUMMARY:Bible Study
URL;VALUE=URI:https://www.muygrandeministries.com/events/bible-study--11/20
 26-09-03
END:VEVENT
END:VCALENDAR
