BEGIN:VCALENDAR
VERSION:2.0
PRODID:icalendar-ruby
CALSCALE:GREGORIAN
METHOD:PUBLISH
BEGIN:VEVENT
DTSTAMP:20260425T172138Z
UID:11-305223@muygrandeministries.com
DTSTART:20260820T230000Z
DTEND:20260821T013000Z
CLASS:PUBLIC
CREATED:20260425T121205
DESCRIPTION:
LAST-MODIFIED:20260425T121205
LOCATION:Muy Grande Ministries
SUMMARY:Bible Study
URL;VALUE=URI:https://www.muygrandeministries.com/events/bible-study--11/20
 26-08-20
END:VEVENT
END:VCALENDAR
