BEGIN:VCALENDAR
VERSION:2.0
PRODID:icalendar-ruby
CALSCALE:GREGORIAN
METHOD:PUBLISH
BEGIN:VEVENT
DTSTAMP:20260425T155601Z
UID:11-305146@muygrandeministries.com
DTSTART:20260813T230000Z
DTEND:20260814T013000Z
CLASS:PUBLIC
CREATED:20260425T093150
DESCRIPTION:
LAST-MODIFIED:20260425T093150
LOCATION:Muy Grande Ministries
SUMMARY:Bible Study
URL;VALUE=URI:https://www.muygrandeministries.com/events/bible-study--11/20
 26-08-13
END:VEVENT
END:VCALENDAR
