BEGIN:VCALENDAR
VERSION:2.0
PRODID:icalendar-ruby
CALSCALE:GREGORIAN
METHOD:PUBLISH
BEGIN:VEVENT
DTSTAMP:20260425T142814Z
UID:11-305069@muygrandeministries.com
DTSTART:20260806T230000Z
DTEND:20260807T013000Z
CLASS:PUBLIC
CREATED:20260425T065041
DESCRIPTION:
LAST-MODIFIED:20260425T065041
LOCATION:Muy Grande Ministries
SUMMARY:Bible Study
URL;VALUE=URI:https://www.muygrandeministries.com/events/bible-study--11/20
 26-08-06
END:VEVENT
END:VCALENDAR
