BEGIN:VCALENDAR
VERSION:2.0
PRODID:icalendar-ruby
CALSCALE:GREGORIAN
METHOD:PUBLISH
BEGIN:VEVENT
DTSTAMP:20260425T105208Z
UID:11-304991@muygrandeministries.com
DTSTART:20260723T230000Z
DTEND:20260724T013000Z
CLASS:PUBLIC
CREATED:20260424T210503
DESCRIPTION:
LAST-MODIFIED:20260424T210503
LOCATION:Muy Grande Ministries
SUMMARY:Bible Study
URL;VALUE=URI:https://www.muygrandeministries.com/events/bible-study--11/20
 26-07-23
END:VEVENT
END:VCALENDAR
